BEGIN:VCALENDAR
VERSION:2.0
PRODID:-//St. Anastasia Catholic Community - ECPv6.15.17.1//NONSGML v1.0//EN
CALSCALE:GREGORIAN
METHOD:PUBLISH
X-WR-CALNAME:St. Anastasia Catholic Community
X-ORIGINAL-URL:https://www.stanastasia.net
X-WR-CALDESC:Events for St. Anastasia Catholic Community
REFRESH-INTERVAL;VALUE=DURATION:PT1H
X-Robots-Tag:noindex
X-PUBLISHED-TTL:PT1H
BEGIN:VTIMEZONE
TZID:America/Chicago
BEGIN:DAYLIGHT
TZOFFSETFROM:-0600
TZOFFSETTO:-0500
TZNAME:CDT
DTSTART:20250309T080000
END:DAYLIGHT
BEGIN:STANDARD
TZOFFSETFROM:-0500
TZOFFSETTO:-0600
TZNAME:CST
DTSTART:20251102T070000
END:STANDARD
BEGIN:DAYLIGHT
TZOFFSETFROM:-0600
TZOFFSETTO:-0500
TZNAME:CDT
DTSTART:20260308T080000
END:DAYLIGHT
BEGIN:STANDARD
TZOFFSETFROM:-0500
TZOFFSETTO:-0600
TZNAME:CST
DTSTART:20261101T070000
END:STANDARD
BEGIN:DAYLIGHT
TZOFFSETFROM:-0600
TZOFFSETTO:-0500
TZNAME:CDT
DTSTART:20270314T080000
END:DAYLIGHT
BEGIN:STANDARD
TZOFFSETFROM:-0500
TZOFFSETTO:-0600
TZNAME:CST
DTSTART:20271107T070000
END:STANDARD
END:VTIMEZONE
BEGIN:VEVENT
DTSTART;TZID=America/Chicago:20260428T170000
DTEND;TZID=America/Chicago:20260428T180000
DTSTAMP:20260425T052120
CREATED:20260112T161030Z
LAST-MODIFIED:20260112T161031Z
UID:14364207-1777395600-1777399200@www.stanastasia.net
SUMMARY:Daily Mass
DESCRIPTION:
URL:https://www.stanastasia.net/event/daily-mass-2-4/2026-04-28/
LOCATION:St. Anastasia Catholic Church\, 460 Lake Street\, Hutchinson\, MN\, 55350\, United States
END:VEVENT
BEGIN:VEVENT
DTSTART;TZID=America/Chicago:20260505T170000
DTEND;TZID=America/Chicago:20260505T180000
DTSTAMP:20260425T052120
CREATED:20260112T161030Z
LAST-MODIFIED:20260112T161031Z
UID:14364208-1778000400-1778004000@www.stanastasia.net
SUMMARY:Daily Mass
DESCRIPTION:
URL:https://www.stanastasia.net/event/daily-mass-2-4/2026-05-05/
LOCATION:St. Anastasia Catholic Church\, 460 Lake Street\, Hutchinson\, MN\, 55350\, United States
END:VEVENT
BEGIN:VEVENT
DTSTART;TZID=America/Chicago:20260512T170000
DTEND;TZID=America/Chicago:20260512T180000
DTSTAMP:20260425T052120
CREATED:20260112T161030Z
LAST-MODIFIED:20260112T161031Z
UID:14364209-1778605200-1778608800@www.stanastasia.net
SUMMARY:Daily Mass
DESCRIPTION:
URL:https://www.stanastasia.net/event/daily-mass-2-4/2026-05-12/
LOCATION:St. Anastasia Catholic Church\, 460 Lake Street\, Hutchinson\, MN\, 55350\, United States
END:VEVENT
BEGIN:VEVENT
DTSTART;TZID=America/Chicago:20260519T170000
DTEND;TZID=America/Chicago:20260519T180000
DTSTAMP:20260425T052120
CREATED:20260112T161030Z
LAST-MODIFIED:20260112T161031Z
UID:14364210-1779210000-1779213600@www.stanastasia.net
SUMMARY:Daily Mass
DESCRIPTION:
URL:https://www.stanastasia.net/event/daily-mass-2-4/2026-05-19/
LOCATION:St. Anastasia Catholic Church\, 460 Lake Street\, Hutchinson\, MN\, 55350\, United States
END:VEVENT
BEGIN:VEVENT
DTSTART;TZID=America/Chicago:20260526T170000
DTEND;TZID=America/Chicago:20260526T180000
DTSTAMP:20260425T052120
CREATED:20260112T161030Z
LAST-MODIFIED:20260112T161031Z
UID:14364211-1779814800-1779818400@www.stanastasia.net
SUMMARY:Daily Mass
DESCRIPTION:
URL:https://www.stanastasia.net/event/daily-mass-2-4/2026-05-26/
LOCATION:St. Anastasia Catholic Church\, 460 Lake Street\, Hutchinson\, MN\, 55350\, United States
END:VEVENT
BEGIN:VEVENT
DTSTART;TZID=America/Chicago:20260602T170000
DTEND;TZID=America/Chicago:20260602T180000
DTSTAMP:20260425T052120
CREATED:20260112T161030Z
LAST-MODIFIED:20260112T161031Z
UID:14364212-1780419600-1780423200@www.stanastasia.net
SUMMARY:Daily Mass
DESCRIPTION:
URL:https://www.stanastasia.net/event/daily-mass-2-4/2026-06-02/
LOCATION:St. Anastasia Catholic Church\, 460 Lake Street\, Hutchinson\, MN\, 55350\, United States
END:VEVENT
BEGIN:VEVENT
DTSTART;TZID=America/Chicago:20260609T170000
DTEND;TZID=America/Chicago:20260609T180000
DTSTAMP:20260425T052120
CREATED:20260112T161030Z
LAST-MODIFIED:20260112T161031Z
UID:14364213-1781024400-1781028000@www.stanastasia.net
SUMMARY:Daily Mass
DESCRIPTION:
URL:https://www.stanastasia.net/event/daily-mass-2-4/2026-06-09/
LOCATION:St. Anastasia Catholic Church\, 460 Lake Street\, Hutchinson\, MN\, 55350\, United States
END:VEVENT
BEGIN:VEVENT
DTSTART;TZID=America/Chicago:20260616T170000
DTEND;TZID=America/Chicago:20260616T180000
DTSTAMP:20260425T052120
CREATED:20260112T161030Z
LAST-MODIFIED:20260112T161031Z
UID:14364214-1781629200-1781632800@www.stanastasia.net
SUMMARY:Daily Mass
DESCRIPTION:
URL:https://www.stanastasia.net/event/daily-mass-2-4/2026-06-16/
LOCATION:St. Anastasia Catholic Church\, 460 Lake Street\, Hutchinson\, MN\, 55350\, United States
END:VEVENT
BEGIN:VEVENT
DTSTART;TZID=America/Chicago:20260623T170000
DTEND;TZID=America/Chicago:20260623T180000
DTSTAMP:20260425T052120
CREATED:20260112T161030Z
LAST-MODIFIED:20260112T161031Z
UID:14364215-1782234000-1782237600@www.stanastasia.net
SUMMARY:Daily Mass
DESCRIPTION:
URL:https://www.stanastasia.net/event/daily-mass-2-4/2026-06-23/
LOCATION:St. Anastasia Catholic Church\, 460 Lake Street\, Hutchinson\, MN\, 55350\, United States
END:VEVENT
BEGIN:VEVENT
DTSTART;TZID=America/Chicago:20260630T170000
DTEND;TZID=America/Chicago:20260630T180000
DTSTAMP:20260425T052120
CREATED:20260112T161030Z
LAST-MODIFIED:20260112T161031Z
UID:14364216-1782838800-1782842400@www.stanastasia.net
SUMMARY:Daily Mass
DESCRIPTION:
URL:https://www.stanastasia.net/event/daily-mass-2-4/2026-06-30/
LOCATION:St. Anastasia Catholic Church\, 460 Lake Street\, Hutchinson\, MN\, 55350\, United States
END:VEVENT
BEGIN:VEVENT
DTSTART;TZID=America/Chicago:20260707T170000
DTEND;TZID=America/Chicago:20260707T180000
DTSTAMP:20260425T052120
CREATED:20260112T161030Z
LAST-MODIFIED:20260112T161031Z
UID:14364217-1783443600-1783447200@www.stanastasia.net
SUMMARY:Daily Mass
DESCRIPTION:
URL:https://www.stanastasia.net/event/daily-mass-2-4/2026-07-07/
LOCATION:St. Anastasia Catholic Church\, 460 Lake Street\, Hutchinson\, MN\, 55350\, United States
END:VEVENT
BEGIN:VEVENT
DTSTART;TZID=America/Chicago:20260714T170000
DTEND;TZID=America/Chicago:20260714T180000
DTSTAMP:20260425T052120
CREATED:20260112T161030Z
LAST-MODIFIED:20260112T161031Z
UID:14364218-1784048400-1784052000@www.stanastasia.net
SUMMARY:Daily Mass
DESCRIPTION:
URL:https://www.stanastasia.net/event/daily-mass-2-4/2026-07-14/
LOCATION:St. Anastasia Catholic Church\, 460 Lake Street\, Hutchinson\, MN\, 55350\, United States
END:VEVENT
BEGIN:VEVENT
DTSTART;TZID=America/Chicago:20260721T170000
DTEND;TZID=America/Chicago:20260721T180000
DTSTAMP:20260425T052120
CREATED:20260112T161030Z
LAST-MODIFIED:20260112T161031Z
UID:14364219-1784653200-1784656800@www.stanastasia.net
SUMMARY:Daily Mass
DESCRIPTION:
URL:https://www.stanastasia.net/event/daily-mass-2-4/2026-07-21/
LOCATION:St. Anastasia Catholic Church\, 460 Lake Street\, Hutchinson\, MN\, 55350\, United States
END:VEVENT
BEGIN:VEVENT
DTSTART;TZID=America/Chicago:20260728T170000
DTEND;TZID=America/Chicago:20260728T180000
DTSTAMP:20260425T052120
CREATED:20260112T161030Z
LAST-MODIFIED:20260112T161031Z
UID:14364220-1785258000-1785261600@www.stanastasia.net
SUMMARY:Daily Mass
DESCRIPTION:
URL:https://www.stanastasia.net/event/daily-mass-2-4/2026-07-28/
LOCATION:St. Anastasia Catholic Church\, 460 Lake Street\, Hutchinson\, MN\, 55350\, United States
END:VEVENT
BEGIN:VEVENT
DTSTART;TZID=America/Chicago:20260804T170000
DTEND;TZID=America/Chicago:20260804T180000
DTSTAMP:20260425T052120
CREATED:20260112T161030Z
LAST-MODIFIED:20260112T161031Z
UID:14364221-1785862800-1785866400@www.stanastasia.net
SUMMARY:Daily Mass
DESCRIPTION:
URL:https://www.stanastasia.net/event/daily-mass-2-4/2026-08-04/
LOCATION:St. Anastasia Catholic Church\, 460 Lake Street\, Hutchinson\, MN\, 55350\, United States
END:VEVENT
BEGIN:VEVENT
DTSTART;TZID=America/Chicago:20260811T170000
DTEND;TZID=America/Chicago:20260811T180000
DTSTAMP:20260425T052120
CREATED:20260112T161030Z
LAST-MODIFIED:20260112T161031Z
UID:14364222-1786467600-1786471200@www.stanastasia.net
SUMMARY:Daily Mass
DESCRIPTION:
URL:https://www.stanastasia.net/event/daily-mass-2-4/2026-08-11/
LOCATION:St. Anastasia Catholic Church\, 460 Lake Street\, Hutchinson\, MN\, 55350\, United States
END:VEVENT
BEGIN:VEVENT
DTSTART;TZID=America/Chicago:20260818T170000
DTEND;TZID=America/Chicago:20260818T180000
DTSTAMP:20260425T052120
CREATED:20260112T161030Z
LAST-MODIFIED:20260112T161031Z
UID:14364223-1787072400-1787076000@www.stanastasia.net
SUMMARY:Daily Mass
DESCRIPTION:
URL:https://www.stanastasia.net/event/daily-mass-2-4/2026-08-18/
LOCATION:St. Anastasia Catholic Church\, 460 Lake Street\, Hutchinson\, MN\, 55350\, United States
END:VEVENT
BEGIN:VEVENT
DTSTART;TZID=America/Chicago:20260825T170000
DTEND;TZID=America/Chicago:20260825T180000
DTSTAMP:20260425T052120
CREATED:20260112T161030Z
LAST-MODIFIED:20260112T161031Z
UID:14364224-1787677200-1787680800@www.stanastasia.net
SUMMARY:Daily Mass
DESCRIPTION:
URL:https://www.stanastasia.net/event/daily-mass-2-4/2026-08-25/
LOCATION:St. Anastasia Catholic Church\, 460 Lake Street\, Hutchinson\, MN\, 55350\, United States
END:VEVENT
BEGIN:VEVENT
DTSTART;TZID=America/Chicago:20260901T170000
DTEND;TZID=America/Chicago:20260901T180000
DTSTAMP:20260425T052120
CREATED:20260112T161030Z
LAST-MODIFIED:20260112T161031Z
UID:14364225-1788282000-1788285600@www.stanastasia.net
SUMMARY:Daily Mass
DESCRIPTION:
URL:https://www.stanastasia.net/event/daily-mass-2-4/2026-09-01/
LOCATION:St. Anastasia Catholic Church\, 460 Lake Street\, Hutchinson\, MN\, 55350\, United States
END:VEVENT
BEGIN:VEVENT
DTSTART;TZID=America/Chicago:20260908T170000
DTEND;TZID=America/Chicago:20260908T180000
DTSTAMP:20260425T052120
CREATED:20260112T161030Z
LAST-MODIFIED:20260112T161031Z
UID:14364226-1788886800-1788890400@www.stanastasia.net
SUMMARY:Daily Mass
DESCRIPTION:
URL:https://www.stanastasia.net/event/daily-mass-2-4/2026-09-08/
LOCATION:St. Anastasia Catholic Church\, 460 Lake Street\, Hutchinson\, MN\, 55350\, United States
END:VEVENT
BEGIN:VEVENT
DTSTART;TZID=America/Chicago:20260915T170000
DTEND;TZID=America/Chicago:20260915T180000
DTSTAMP:20260425T052120
CREATED:20260112T161030Z
LAST-MODIFIED:20260112T161031Z
UID:14364227-1789491600-1789495200@www.stanastasia.net
SUMMARY:Daily Mass
DESCRIPTION:
URL:https://www.stanastasia.net/event/daily-mass-2-4/2026-09-15/
LOCATION:St. Anastasia Catholic Church\, 460 Lake Street\, Hutchinson\, MN\, 55350\, United States
END:VEVENT
BEGIN:VEVENT
DTSTART;TZID=America/Chicago:20260922T170000
DTEND;TZID=America/Chicago:20260922T180000
DTSTAMP:20260425T052120
CREATED:20260112T161030Z
LAST-MODIFIED:20260112T161031Z
UID:14364228-1790096400-1790100000@www.stanastasia.net
SUMMARY:Daily Mass
DESCRIPTION:
URL:https://www.stanastasia.net/event/daily-mass-2-4/2026-09-22/
LOCATION:St. Anastasia Catholic Church\, 460 Lake Street\, Hutchinson\, MN\, 55350\, United States
END:VEVENT
BEGIN:VEVENT
DTSTART;TZID=America/Chicago:20260929T170000
DTEND;TZID=America/Chicago:20260929T180000
DTSTAMP:20260425T052120
CREATED:20260112T161030Z
LAST-MODIFIED:20260112T161031Z
UID:14364229-1790701200-1790704800@www.stanastasia.net
SUMMARY:Daily Mass
DESCRIPTION:
URL:https://www.stanastasia.net/event/daily-mass-2-4/2026-09-29/
LOCATION:St. Anastasia Catholic Church\, 460 Lake Street\, Hutchinson\, MN\, 55350\, United States
END:VEVENT
BEGIN:VEVENT
DTSTART;TZID=America/Chicago:20261006T170000
DTEND;TZID=America/Chicago:20261006T180000
DTSTAMP:20260425T052120
CREATED:20260112T161030Z
LAST-MODIFIED:20260112T161031Z
UID:14364230-1791306000-1791309600@www.stanastasia.net
SUMMARY:Daily Mass
DESCRIPTION:
URL:https://www.stanastasia.net/event/daily-mass-2-4/2026-10-06/
LOCATION:St. Anastasia Catholic Church\, 460 Lake Street\, Hutchinson\, MN\, 55350\, United States
END:VEVENT
BEGIN:VEVENT
DTSTART;TZID=America/Chicago:20261013T170000
DTEND;TZID=America/Chicago:20261013T180000
DTSTAMP:20260425T052120
CREATED:20260112T161030Z
LAST-MODIFIED:20260112T161031Z
UID:14364231-1791910800-1791914400@www.stanastasia.net
SUMMARY:Daily Mass
DESCRIPTION:
URL:https://www.stanastasia.net/event/daily-mass-2-4/2026-10-13/
LOCATION:St. Anastasia Catholic Church\, 460 Lake Street\, Hutchinson\, MN\, 55350\, United States
END:VEVENT
BEGIN:VEVENT
DTSTART;TZID=America/Chicago:20261020T170000
DTEND;TZID=America/Chicago:20261020T180000
DTSTAMP:20260425T052120
CREATED:20260112T161030Z
LAST-MODIFIED:20260112T161031Z
UID:14364232-1792515600-1792519200@www.stanastasia.net
SUMMARY:Daily Mass
DESCRIPTION:
URL:https://www.stanastasia.net/event/daily-mass-2-4/2026-10-20/
LOCATION:St. Anastasia Catholic Church\, 460 Lake Street\, Hutchinson\, MN\, 55350\, United States
END:VEVENT
BEGIN:VEVENT
DTSTART;TZID=America/Chicago:20261027T170000
DTEND;TZID=America/Chicago:20261027T180000
DTSTAMP:20260425T052120
CREATED:20260112T161030Z
LAST-MODIFIED:20260112T161031Z
UID:14364233-1793120400-1793124000@www.stanastasia.net
SUMMARY:Daily Mass
DESCRIPTION:
URL:https://www.stanastasia.net/event/daily-mass-2-4/2026-10-27/
LOCATION:St. Anastasia Catholic Church\, 460 Lake Street\, Hutchinson\, MN\, 55350\, United States
END:VEVENT
BEGIN:VEVENT
DTSTART;TZID=America/Chicago:20261103T170000
DTEND;TZID=America/Chicago:20261103T180000
DTSTAMP:20260425T052120
CREATED:20260112T161030Z
LAST-MODIFIED:20260112T161031Z
UID:14364234-1793725200-1793728800@www.stanastasia.net
SUMMARY:Daily Mass
DESCRIPTION:
URL:https://www.stanastasia.net/event/daily-mass-2-4/2026-11-03/
LOCATION:St. Anastasia Catholic Church\, 460 Lake Street\, Hutchinson\, MN\, 55350\, United States
END:VEVENT
BEGIN:VEVENT
DTSTART;TZID=America/Chicago:20261110T170000
DTEND;TZID=America/Chicago:20261110T180000
DTSTAMP:20260425T052120
CREATED:20260112T161030Z
LAST-MODIFIED:20260112T161031Z
UID:14364235-1794330000-1794333600@www.stanastasia.net
SUMMARY:Daily Mass
DESCRIPTION:
URL:https://www.stanastasia.net/event/daily-mass-2-4/2026-11-10/
LOCATION:St. Anastasia Catholic Church\, 460 Lake Street\, Hutchinson\, MN\, 55350\, United States
END:VEVENT
BEGIN:VEVENT
DTSTART;TZID=America/Chicago:20261117T170000
DTEND;TZID=America/Chicago:20261117T180000
DTSTAMP:20260425T052120
CREATED:20260112T161030Z
LAST-MODIFIED:20260112T161031Z
UID:14364236-1794934800-1794938400@www.stanastasia.net
SUMMARY:Daily Mass
DESCRIPTION:
URL:https://www.stanastasia.net/event/daily-mass-2-4/2026-11-17/
LOCATION:St. Anastasia Catholic Church\, 460 Lake Street\, Hutchinson\, MN\, 55350\, United States
END:VEVENT
END:VCALENDAR